BEGIN:VCALENDAR
VERSION:2.0
PRODID:SAILING//SK
CALSCALE:GREGORIAN
METHOD:PUBLISH
X-WR-CALNAME:
X-ORIGINAL-URL:http://old.sailing.sk
X-WR-CALDESC:Termínový kalendár SZJ 2024
BEGIN:VEVENT
DTSTART;VALUE=DATE:20240420T080000Z
DTEND;VALUE=DATE:20240420T150000Z
LAST-MODIFIED:20260423T210841
SUMMARY:Pécsi tó kerulo Túraverseny (HUN)
DESCRIPTION:6139 / 2024 : Pécsi tó kerulo Túraverseny (HUN / HUN) R65-4; 
LOCATION:HUN
CATEGORIES:Preteky
END:VEVENT
END:VCALENDAR
