BEGIN:VCALENDAR
VERSION:2.0
PRODID:SAILING//SK
CALSCALE:GREGORIAN
METHOD:PUBLISH
X-WR-CALNAME:
X-ORIGINAL-URL:http://old.sailing.sk
X-WR-CALDESC:Termínový kalendár SZJ 2024
BEGIN:VEVENT
DTSTART;VALUE=DATE:20240419T080000Z
DTEND;VALUE=DATE:20240419T150000Z
LAST-MODIFIED:20260423T210600
SUMMARY:Medvehagyma regatta Orfu (HUN )
DESCRIPTION:6138 / 2024 : Medvehagyma regatta Orfu (HUN  / HUN ) IOM-4; 
LOCATION:HUN 
CATEGORIES:Preteky
END:VEVENT
END:VCALENDAR
