BEGIN:VCALENDAR
VERSION:2.0
PRODID:SAILING//SK
CALSCALE:GREGORIAN
METHOD:PUBLISH
X-WR-CALNAME:
X-ORIGINAL-URL:http://old.sailing.sk
X-WR-CALDESC:Termínový kalendár SZJ 2007
BEGIN:VEVENT
DTSTART;VALUE=DATE:20070820T080000Z
DTEND;VALUE=DATE:20070825T150000Z
LAST-MODIFIED:20260421T103849
SUMMARY:7th ISAF Team Racing World Championship (West Kirby (GBR))
DESCRIPTION:6127 / 2007 : 7th ISAF Team Racing World Championship (West Kirby (GBR) / GBR) 420-10; 470-10; 
LOCATION:West Kirby (GBR)
CATEGORIES:Preteky
END:VEVENT
END:VCALENDAR
