BEGIN:VCALENDAR
VERSION:2.0
PRODID:SAILING//SK
CALSCALE:GREGORIAN
METHOD:PUBLISH
X-WR-CALNAME:
X-ORIGINAL-URL:http://old.sailing.sk
X-WR-CALDESC:Termínový kalendár SZJ 2024
BEGIN:VEVENT
DTSTART;VALUE=DATE:20240420T080000Z
DTEND;VALUE=DATE:20240426T150000Z
LAST-MODIFIED:20260423T210428
SUMMARY:Slovak Sailing Week 1 (Split (CRO))
DESCRIPTION:6121 / 2024 : Slovak Sailing Week 1 (Split (CRO) / CRO - JK Sailing Forever) ORC-3; 
LOCATION:Split (CRO)
CATEGORIES:Preteky
END:VEVENT
END:VCALENDAR
