BEGIN:VCALENDAR
VERSION:2.0
PRODID:SAILING//SK
CALSCALE:GREGORIAN
METHOD:PUBLISH
X-WR-CALNAME:
X-ORIGINAL-URL:http://old.sailing.sk
X-WR-CALDESC:Termínový kalendár SZJ 2024
BEGIN:VEVENT
DTSTART;VALUE=DATE:20240419T080000Z
DTEND;VALUE=DATE:20240421T150000Z
LAST-MODIFIED:20260423T210653
SUMMARY:Beneteau First SE challenge (Murtersko (CRO))
DESCRIPTION:6114 / 2024 : Beneteau First SE challenge (Murtersko (CRO) / CRO - JK PLOčE SAILING) KJP-3; 
LOCATION:Murtersko (CRO)
CATEGORIES:Preteky
END:VEVENT
END:VCALENDAR
