BEGIN:VCALENDAR
VERSION:2.0
PRODID:SAILING//SK
CALSCALE:GREGORIAN
METHOD:PUBLISH
X-WR-CALNAME:
X-ORIGINAL-URL:http://old.sailing.sk
X-WR-CALDESC:Termínový kalendár SZJ 2007
BEGIN:VEVENT
DTSTART;VALUE=DATE:20070623T080000Z
DTEND;VALUE=DATE:20070624T150000Z
LAST-MODIFIED:20260421T103639
SUMMARY:Bali Cup (Bezdrev (CZE))
DESCRIPTION:6089 / 2007 : Bali Cup (Bezdrev (CZE) / CZE) OPT-4; 
LOCATION:Bezdrev (CZE)
CATEGORIES:Preteky
END:VEVENT
END:VCALENDAR
