BEGIN:VCALENDAR
VERSION:2.0
PRODID:SAILING//SK
CALSCALE:GREGORIAN
METHOD:PUBLISH
X-WR-CALNAME:
X-ORIGINAL-URL:http://old.sailing.sk
X-WR-CALDESC:Termínový kalendár SZJ 2026
BEGIN:VEVENT
DTSTART;VALUE=DATE:20260523T080000Z
DTEND;VALUE=DATE:20260524T150000Z
LAST-MODIFIED:20260421T130207
SUMMARY:Květáková regata (Velké Dářko (CZE))
DESCRIPTION:6049 / 2026 : Květáková regata (Velké Dářko (CZE) / CZE) RSF-5; 
LOCATION:Velké Dářko (CZE)
CATEGORIES:Preteky
END:VEVENT
END:VCALENDAR
