BEGIN:VCALENDAR
VERSION:2.0
PRODID:SAILING//SK
CALSCALE:GREGORIAN
METHOD:PUBLISH
X-WR-CALNAME:
X-ORIGINAL-URL:http://old.sailing.sk
X-WR-CALDESC:Termínový kalendár SZJ 2007
BEGIN:VEVENT
DTSTART;VALUE=DATE:20070512T080000Z
DTEND;VALUE=DATE:20070513T150000Z
LAST-MODIFIED:20260421T103752
SUMMARY:Balaton Season Opening (Balatonfured (HUN))
DESCRIPTION:6044 / 2007 : Balaton Season Opening (Balatonfured (HUN) / HUN) OPT-3; 420-3; 
LOCATION:Balatonfured (HUN)
CATEGORIES:Preteky
END:VEVENT
END:VCALENDAR
