BEGIN:VCALENDAR
VERSION:2.0
PRODID:SAILING//SK
CALSCALE:GREGORIAN
METHOD:PUBLISH
X-WR-CALNAME:
X-ORIGINAL-URL:http://old.sailing.sk
X-WR-CALDESC:Termínový kalendár SZJ 2024
BEGIN:VEVENT
DTSTART;VALUE=DATE:20240509T080000Z
DTEND;VALUE=DATE:20240512T150000Z
LAST-MODIFIED:20260423T210540
SUMMARY:EurILCA Europa Cup SUI (Švajèiarsko)
DESCRIPTION:6039 / 2024 : EurILCA Europa Cup SUI (Švajèiarsko / ) L47-10; LAR-10; LAS-10; 
LOCATION:Švajèiarsko
CATEGORIES:Preteky
END:VEVENT
END:VCALENDAR
