BEGIN:VCALENDAR
VERSION:2.0
PRODID:SAILING//SK
CALSCALE:GREGORIAN
METHOD:PUBLISH
X-WR-CALNAME:
X-ORIGINAL-URL:http://old.sailing.sk
X-WR-CALDESC:Termínový kalendár SZJ 2024
BEGIN:VEVENT
DTSTART;VALUE=DATE:20240502T080000Z
DTEND;VALUE=DATE:20240505T150000Z
LAST-MODIFIED:20260423T210428
SUMMARY:EurILCA Europa Cup ITA (Punta Ala (ITA))
DESCRIPTION:6037 / 2024 : EurILCA Europa Cup ITA (Punta Ala (ITA) / ) L47-10; LAR-10; LAS-10; 
LOCATION:Punta Ala (ITA)
CATEGORIES:Preteky
END:VEVENT
END:VCALENDAR
