BEGIN:VCALENDAR
VERSION:2.0
PRODID:SAILING//SK
CALSCALE:GREGORIAN
METHOD:PUBLISH
X-WR-CALNAME:
X-ORIGINAL-URL:http://old.sailing.sk
X-WR-CALDESC:Termínový kalendár SZJ 2026
BEGIN:VEVENT
DTSTART;VALUE=DATE:20260516T080000Z
DTEND;VALUE=DATE:20260517T150000Z
LAST-MODIFIED:20260421T130032
SUMMARY:Vestonická Venuše  Supercup (Nové Mlyny (CZE))
DESCRIPTION:6014 / 2026 : Vestonická Venuše  Supercup (Nové Mlyny (CZE) / CZE) BIC-6; BTP-6; RAC-6; 
LOCATION:Nové Mlyny (CZE)
CATEGORIES:Preteky
END:VEVENT
END:VCALENDAR
