BEGIN:VCALENDAR
VERSION:2.0
PRODID:SAILING//SK
CALSCALE:GREGORIAN
METHOD:PUBLISH
X-WR-CALNAME:
X-ORIGINAL-URL:http://old.sailing.sk
X-WR-CALDESC:Termínový kalendár SZJ 2026
BEGIN:VEVENT
DTSTART;VALUE=DATE:20260515T080000Z
DTEND;VALUE=DATE:20260522T150000Z
LAST-MODIFIED:20260421T130517
SUMMARY:2026 ILCA Senior European Championships (Kastela (CRO))
DESCRIPTION:6013 / 2026 : 2026 ILCA Senior European Championships (Kastela (CRO) / CRO) LAR-11; LAS-11; 
LOCATION:Kastela (CRO)
CATEGORIES:Preteky
END:VEVENT
END:VCALENDAR
