BEGIN:VCALENDAR
VERSION:2.0
PRODID:SAILING//SK
CALSCALE:GREGORIAN
METHOD:PUBLISH
X-WR-CALNAME:
X-ORIGINAL-URL:http://old.sailing.sk
X-WR-CALDESC:Termínový kalendár SZJ 2026
BEGIN:VEVENT
DTSTART;VALUE=DATE:20260504T080000Z
DTEND;VALUE=DATE:20260509T150000Z
LAST-MODIFIED:20260421T130647
SUMMARY:Majstrovstvá Európy Raceboard ( Monsazar (POR))
DESCRIPTION:6011 / 2026 : Majstrovstvá Európy Raceboard ( Monsazar (POR) / POR) RAC-11; 
LOCATION: Monsazar (POR)
CATEGORIES:Preteky
END:VEVENT
END:VCALENDAR
