BEGIN:VCALENDAR
VERSION:2.0
PRODID:SAILING//SK
CALSCALE:GREGORIAN
METHOD:PUBLISH
X-WR-CALNAME:
X-ORIGINAL-URL:http://old.sailing.sk
X-WR-CALDESC:Termínový kalendár SZJ 2026
BEGIN:VEVENT
DTSTART;VALUE=DATE:20260501T080000Z
DTEND;VALUE=DATE:20260503T150000Z
LAST-MODIFIED:20260421T130511
SUMMARY:Majstrovstvá Portugalska Raceboard (Monsazar (POR))
DESCRIPTION:6010 / 2026 : Majstrovstvá Portugalska Raceboard (Monsazar (POR) / POR) RAC-8; 
LOCATION:Monsazar (POR)
CATEGORIES:Preteky
END:VEVENT
END:VCALENDAR
