BEGIN:VCALENDAR
VERSION:2.0
PRODID:SAILING//SK
CALSCALE:GREGORIAN
METHOD:PUBLISH
X-WR-CALNAME:
X-ORIGINAL-URL:http://old.sailing.sk
X-WR-CALDESC:Termínový kalendár SZJ 2007
BEGIN:VEVENT
DTSTART;VALUE=DATE:20070227T080000Z
DTEND;VALUE=DATE:20070304T150000Z
LAST-MODIFIED:20260421T103805
SUMMARY:Alexander the Great Cup (Thessaloniki (GRE))
DESCRIPTION:6009 / 2007 : Alexander the Great Cup (Thessaloniki (GRE) / GRE) LAR-6; LAS-6; FIN-6; 470-6; 
LOCATION:Thessaloniki (GRE)
CATEGORIES:Preteky
END:VEVENT
END:VCALENDAR
