BEGIN:VCALENDAR
VERSION:2.0
PRODID:SAILING//SK
CALSCALE:GREGORIAN
METHOD:PUBLISH
X-WR-CALNAME:
X-ORIGINAL-URL:http://old.sailing.sk
X-WR-CALDESC:Termínový kalendár SZJ 2013
BEGIN:VEVENT
DTSTART;VALUE=DATE:20130928T080000Z
DTEND;VALUE=DATE:20130929T150000Z
LAST-MODIFIED:20260420T103549
SUMMARY:2nd COOC Pohár YachtClubu Štětí (Nechranice (CZE))
DESCRIPTION:519 / 2013 : 2nd COOC Pohár YachtClubu Štětí (Nechranice (CZE) / CZE) OPT-6; 
LOCATION:Nechranice (CZE)
CATEGORIES:Preteky
END:VEVENT
END:VCALENDAR
