BEGIN:VCALENDAR
VERSION:2.0
PRODID:SAILING//SK
CALSCALE:GREGORIAN
METHOD:PUBLISH
X-WR-CALNAME:
X-ORIGINAL-URL:http://old.sailing.sk
X-WR-CALDESC:Termínový kalendár SZJ 2024
BEGIN:VEVENT
DTSTART;VALUE=DATE:20240420T080000Z
DTEND;VALUE=DATE:20240421T150000Z
LAST-MODIFIED:20260423T210540
SUMMARY:Memoriál Rosslera Ořovského (ČYK, Praha (CZE))
DESCRIPTION:5067 / 2024 : Memoriál Rosslera Ořovského (ČYK, Praha (CZE) / CZE) OPT-2; 
LOCATION:ČYK, Praha (CZE)
CATEGORIES:Preteky
END:VEVENT
END:VCALENDAR
