BEGIN:VCALENDAR
VERSION:2.0
PRODID:SAILING//SK
CALSCALE:GREGORIAN
METHOD:PUBLISH
X-WR-CALNAME:
X-ORIGINAL-URL:http://old.sailing.sk
X-WR-CALDESC:Termínový kalendár SZJ 2007
BEGIN:VEVENT
DTSTART;VALUE=DATE:20070727T080000Z
DTEND;VALUE=DATE:20070729T150000Z
LAST-MODIFIED:20260421T103752
SUMMARY:44.Beskydská regata (Žermanice (CZE))
DESCRIPTION:506 / 2007 : 44.Beskydská regata (Žermanice (CZE) / CZE) OPT-6; LAR-6; LAS-6; EUR-6; 
LOCATION:Žermanice (CZE)
CATEGORIES:Preteky
END:VEVENT
END:VCALENDAR
