BEGIN:VCALENDAR
VERSION:2.0
PRODID:SAILING//SK
CALSCALE:GREGORIAN
METHOD:PUBLISH
X-WR-CALNAME:
X-ORIGINAL-URL:http://old.sailing.sk
X-WR-CALDESC:Termínový kalendár SZJ 2024
BEGIN:VEVENT
DTSTART;VALUE=DATE:20240504T080000Z
DTEND;VALUE=DATE:20240505T150000Z
LAST-MODIFIED:20260423T210422
SUMMARY:Jarní premiéra (Rozkoš (CZE))
DESCRIPTION:5012 / 2024 : Jarní premiéra (Rozkoš (CZE) / CZE) OPT-6; 
LOCATION:Rozkoš (CZE)
CATEGORIES:Preteky
END:VEVENT
END:VCALENDAR
