BEGIN:VCALENDAR
VERSION:2.0
PRODID:SAILING//SK
CALSCALE:GREGORIAN
METHOD:PUBLISH
X-WR-CALNAME:
X-ORIGINAL-URL:http://old.sailing.sk
X-WR-CALDESC:Termínový kalendár SZJ 2024
BEGIN:VEVENT
DTSTART;VALUE=DATE:20240420T080000Z
DTEND;VALUE=DATE:20240421T150000Z
LAST-MODIFIED:20260423T210606
SUMMARY:Krajský přebor  (Brno (CZE))
DESCRIPTION:5011 / 2024 : Krajský přebor  (Brno (CZE) / CZE) OPT-3; 
LOCATION:Brno (CZE)
CATEGORIES:Preteky
END:VEVENT
END:VCALENDAR
