BEGIN:VCALENDAR
VERSION:2.0
PRODID:SAILING//SK
CALSCALE:GREGORIAN
METHOD:PUBLISH
X-WR-CALNAME:
X-ORIGINAL-URL:http://old.sailing.sk
X-WR-CALDESC:Termínový kalendár SZJ 2024
BEGIN:VEVENT
DTSTART;VALUE=DATE:20240420T080000Z
DTEND;VALUE=DATE:20240427T150000Z
LAST-MODIFIED:20260423T210423
SUMMARY:SOF 2024 -French Olympic Week/ Last Chance Regatta (Hyéres (FRA))
DESCRIPTION:5010 / 2024 : SOF 2024 -French Olympic Week/ Last Chance Regatta (Hyéres (FRA) / FRA) 
LOCATION:Hyéres (FRA)
CATEGORIES:Preteky
END:VEVENT
END:VCALENDAR
