BEGIN:VCALENDAR
VERSION:2.0
PRODID:SAILING//SK
CALSCALE:GREGORIAN
METHOD:PUBLISH
X-WR-CALNAME:
X-ORIGINAL-URL:http://old.sailing.sk
X-WR-CALDESC:Termínový kalendár SZJ 2007
BEGIN:VEVENT
DTSTART;VALUE=DATE:20071007T080000Z
DTEND;VALUE=DATE:20071012T150000Z
LAST-MODIFIED:20260421T103727
SUMMARY:Adria Cup 2007 (Chorvátsko)
DESCRIPTION:407 / 2007 : Adria Cup 2007 (Chorvátsko / Tatran Bratislava) 
LOCATION:Chorvátsko
CATEGORIES:Preteky
END:VEVENT
END:VCALENDAR
