BEGIN:VCALENDAR
VERSION:2.0
PRODID:SAILING//SK
CALSCALE:GREGORIAN
METHOD:PUBLISH
X-WR-CALNAME:
X-ORIGINAL-URL:http://old.sailing.sk
X-WR-CALDESC:Termínový kalendár SZJ 2026
BEGIN:VEVENT
DTSTART;VALUE=DATE:20260502T080000Z
DTEND;VALUE=DATE:20260509T150000Z
LAST-MODIFIED:20260421T125941
SUMMARY:Májová regata - MMSR v námormom jachtingu (Kaštela (CRO))
DESCRIPTION:403 / 2026 : Májová regata - MMSR v námormom jachtingu (Kaštela (CRO) / JK Prešov ) ORC-7; 
LOCATION:Kaštela (CRO)
CATEGORIES:Preteky
END:VEVENT
END:VCALENDAR
