BEGIN:VCALENDAR
VERSION:2.0
PRODID:SAILING//SK
CALSCALE:GREGORIAN
METHOD:PUBLISH
X-WR-CALNAME:
X-ORIGINAL-URL:http://old.sailing.sk
X-WR-CALDESC:Termínový kalendár SZJ 2026
BEGIN:VEVENT
DTSTART;VALUE=DATE:20260516T080000Z
DTEND;VALUE=DATE:20260522T150000Z
LAST-MODIFIED:20260421T130047
SUMMARY:MMSR v námormom jachtingu One Design (Murter (CRO))
DESCRIPTION:400 / 2026 : MMSR v námormom jachtingu One Design (Murter (CRO) / TJ Sĺňava Piešťany JO a AAA YACHT) ORC-7; 
LOCATION:Murter (CRO)
CATEGORIES:Preteky
END:VEVENT
END:VCALENDAR
