BEGIN:VCALENDAR
VERSION:2.0
PRODID:SAILING//SK
CALSCALE:GREGORIAN
METHOD:PUBLISH
X-WR-CALNAME:
X-ORIGINAL-URL:http://old.sailing.sk
X-WR-CALDESC:Termínový kalendár SZJ 2007
BEGIN:VEVENT
DTSTART;VALUE=DATE:20070421T080000Z
DTEND;VALUE=DATE:20070422T150000Z
LAST-MODIFIED:20260421T103726
SUMMARY:Aprílové preteky (Bukovec)
DESCRIPTION:351 / 2007 : Aprílové preteky (Bukovec / Metropol (ATUKE)) OPT-2; 420-2; RSX-5; RAC-5; 
LOCATION:Bukovec
CATEGORIES:Preteky
END:VEVENT
END:VCALENDAR
