BEGIN:VCALENDAR
VERSION:2.0
PRODID:SAILING//SK
CALSCALE:GREGORIAN
METHOD:PUBLISH
X-WR-CALNAME:
X-ORIGINAL-URL:http://old.sailing.sk
X-WR-CALDESC:Termínový kalendár SZJ 2026
BEGIN:VEVENT
DTSTART;VALUE=DATE:20260501T080000Z
DTEND;VALUE=DATE:20260502T150000Z
LAST-MODIFIED:20260421T130525
SUMMARY:Májový vietor (Zemplínska Šírava)
DESCRIPTION:350 / 2026 : Májový vietor (Zemplínska Šírava / Yacht Club Michalovce) OPT-3; FIN-3; EUR-5; 
LOCATION:Zemplínska Šírava
CATEGORIES:Preteky
END:VEVENT
END:VCALENDAR
