BEGIN:VCALENDAR
VERSION:2.0
PRODID:SAILING//SK
CALSCALE:GREGORIAN
METHOD:PUBLISH
X-WR-CALNAME:
X-ORIGINAL-URL:http://old.sailing.sk
X-WR-CALDESC:Termínový kalendár SZJ 2026
BEGIN:VEVENT
DTSTART;VALUE=DATE:20260523T080000Z
DTEND;VALUE=DATE:20260524T150000Z
LAST-MODIFIED:20260421T130035
SUMMARY:Pohár rektora TU Košice (Domaša)
DESCRIPTION:302 / 2026 : Pohár rektora TU Košice (Domaša / Akademik TU Košice) OPT-3; VAU-3; BIC-5; BTP-5; RAC-5; FUN-5; 
LOCATION:Domaša
CATEGORIES:Preteky
END:VEVENT
END:VCALENDAR
