BEGIN:VCALENDAR
VERSION:2.0
PRODID:SAILING//SK
CALSCALE:GREGORIAN
METHOD:PUBLISH
X-WR-CALNAME:
X-ORIGINAL-URL:http://old.sailing.sk
X-WR-CALDESC:Termínový kalendár SZJ 2025
BEGIN:VEVENT
DTSTART;VALUE=DATE:20250531T080000Z
DTEND;VALUE=DATE:20250601T150000Z
LAST-MODIFIED:20260420T103554
SUMMARY:Severská Liga Optimist (Liptovská Mara)
DESCRIPTION:254 / 2025 : Severská Liga Optimist (Liptovská Mara / YC LIMAR) OPT-3; 
LOCATION:Liptovská Mara
CATEGORIES:Preteky
END:VEVENT
END:VCALENDAR
