BEGIN:VCALENDAR
VERSION:2.0
PRODID:SAILING//SK
CALSCALE:GREGORIAN
METHOD:PUBLISH
X-WR-CALNAME:
X-ORIGINAL-URL:http://old.sailing.sk
X-WR-CALDESC:Termínový kalendár SZJ 2026
BEGIN:VEVENT
DTSTART;VALUE=DATE:20260516T080000Z
DTEND;VALUE=DATE:20260517T150000Z
LAST-MODIFIED:20260421T130706
SUMMARY:Lipovská kryha - PLM (Liptovská Mara)
DESCRIPTION:250 / 2026 : Lipovská kryha - PLM (Liptovská Mara / YC LIMAR) OPT-2; L47-2; LAR-5; LAS-2; VAU-5; RSF-2; KJP-3; 
LOCATION:Liptovská Mara
CATEGORIES:Preteky
END:VEVENT
END:VCALENDAR
