BEGIN:VCALENDAR
VERSION:2.0
PRODID:SAILING//SK
CALSCALE:GREGORIAN
METHOD:PUBLISH
X-WR-CALNAME:
X-ORIGINAL-URL:http://old.sailing.sk
X-WR-CALDESC:Termínový kalendár SZJ 2026
BEGIN:VEVENT
DTSTART;VALUE=DATE:20260516T080000Z
DTEND;VALUE=DATE:20260517T150000Z
LAST-MODIFIED:20260421T130401
SUMMARY:Lámanie ľadov (Orava)
DESCRIPTION:201 / 2026 : Lámanie ľadov (Orava / Motor Yacht Námestovo) OPT-2; L47-2; LAR-2; LAS-2; FIN-2; 420-2; 
LOCATION:Orava
CATEGORIES:Preteky
END:VEVENT
END:VCALENDAR
