BEGIN:VCALENDAR
VERSION:2.0
PRODID:SAILING//SK
CALSCALE:GREGORIAN
METHOD:PUBLISH
X-WR-CALNAME:
X-ORIGINAL-URL:http://old.sailing.sk
X-WR-CALDESC:Termínový kalendár SZJ 2002
BEGIN:VEVENT
DTSTART;VALUE=DATE:20020518T080000Z
DTEND;VALUE=DATE:20020519T150000Z
LAST-MODIFIED:20260421T103507
SUMMARY:Interpohár WS (Piešťany)
DESCRIPTION:162 / 2002 : Interpohár WS (Piešťany / ) 
LOCATION:Piešťany
CATEGORIES:Preteky
END:VEVENT
END:VCALENDAR
