BEGIN:VCALENDAR
VERSION:2.0
PRODID:SAILING//SK
CALSCALE:GREGORIAN
METHOD:PUBLISH
X-WR-CALNAME:
X-ORIGINAL-URL:http://old.sailing.sk
X-WR-CALDESC:Termínový kalendár SZJ 2026
BEGIN:VEVENT
DTSTART;VALUE=DATE:20260530T080000Z
DTEND;VALUE=DATE:20260531T150000Z
LAST-MODIFIED:20260423T115108
SUMMARY:Balnea Cup (Sĺňava)
DESCRIPTION:153 / 2026 : Balnea Cup (Sĺňava / TJ Sĺňava Piešťany JO) OPT-5; L47-5; LAR-5; LAS-5; 420-5; 
LOCATION:Sĺňava
CATEGORIES:Preteky
END:VEVENT
END:VCALENDAR
