BEGIN:VCALENDAR
VERSION:2.0
PRODID:SAILING//SK
CALSCALE:GREGORIAN
METHOD:PUBLISH
X-WR-CALNAME:
X-ORIGINAL-URL:http://old.sailing.sk
X-WR-CALDESC:Termínový kalendár SZJ 2002
BEGIN:VEVENT
DTSTART;VALUE=DATE:20020928T080000Z
DTEND;VALUE=DATE:20020929T150000Z
LAST-MODIFIED:20260421T103604
SUMMARY:Pohár Slovana (Senec)
DESCRIPTION:123 / 2002 : Pohár Slovana (Senec / ) OPT-3; LAS-2; 420-5; 
LOCATION:Senec
CATEGORIES:Preteky
END:VEVENT
END:VCALENDAR
