BEGIN:VCALENDAR
VERSION:2.0
PRODID:SAILING//SK
CALSCALE:GREGORIAN
METHOD:PUBLISH
X-WR-CALNAME:
X-ORIGINAL-URL:http://old.sailing.sk
X-WR-CALDESC:Termínový kalendár SZJ 2002
BEGIN:VEVENT
DTSTART;VALUE=DATE:20020926T080000Z
DTEND;VALUE=DATE:20020927T150000Z
LAST-MODIFIED:20260421T103503
SUMMARY:M SR Q družstvá (Senec)
DESCRIPTION:122 / 2002 : M SR Q družstvá (Senec / ) OPT-7; 
LOCATION:Senec
CATEGORIES:Preteky
END:VEVENT
END:VCALENDAR
