BEGIN:VCALENDAR
VERSION:2.0
PRODID:SAILING//SK
CALSCALE:GREGORIAN
METHOD:PUBLISH
X-WR-CALNAME:
X-ORIGINAL-URL:http://old.sailing.sk
X-WR-CALDESC:Termínový kalendár SZJ 2002
BEGIN:VEVENT
DTSTART;VALUE=DATE:20020914T080000Z
DTEND;VALUE=DATE:20020915T150000Z
LAST-MODIFIED:20260421T103517
SUMMARY:Veľká cena Slovenska (Senec)
DESCRIPTION:120 / 2002 : Veľká cena Slovenska (Senec / ) OPT-3; LAS-3; FIN-3; 420-5; 
LOCATION:Senec
CATEGORIES:Preteky
END:VEVENT
END:VCALENDAR
