BEGIN:VCALENDAR
VERSION:2.0
PRODID:SAILING//SK
CALSCALE:GREGORIAN
METHOD:PUBLISH
X-WR-CALNAME:
X-ORIGINAL-URL:http://old.sailing.sk
X-WR-CALDESC:Termínový kalendár SZJ 2002
BEGIN:VEVENT
DTSTART;VALUE=DATE:20020829T080000Z
DTEND;VALUE=DATE:20020830T150000Z
LAST-MODIFIED:20260421T103525
SUMMARY:Match racing 470 (Senec)
DESCRIPTION:117 / 2002 : Match racing 470 (Senec / ) 470-3; 
LOCATION:Senec
CATEGORIES:Preteky
END:VEVENT
END:VCALENDAR
