BEGIN:VCALENDAR
VERSION:2.0
PRODID:SAILING//SK
CALSCALE:GREGORIAN
METHOD:PUBLISH
X-WR-CALNAME:
X-ORIGINAL-URL:http://old.sailing.sk
X-WR-CALDESC:Termínový kalendár SZJ 2024
BEGIN:VEVENT
DTSTART;VALUE=DATE:20240427T080000Z
DTEND;VALUE=DATE:20240428T150000Z
LAST-MODIFIED:20260423T210429
SUMMARY:Modrá stuha Senca (Senec)
DESCRIPTION:108 / 2024 : Modrá stuha Senca (Senec / ) OPT-2; L47-2; LAR-2; LAS-2; FIN-2; 420-2; RSF-2; 
LOCATION:Senec
CATEGORIES:Preteky
END:VEVENT
END:VCALENDAR
