BEGIN:VCALENDAR
VERSION:2.0
PRODID:SAILING//SK
CALSCALE:GREGORIAN
METHOD:PUBLISH
X-WR-CALNAME:
X-ORIGINAL-URL:http://old.sailing.sk
X-WR-CALDESC:Termínový kalendár SZJ 2026
BEGIN:VEVENT
DTSTART;VALUE=DATE:20260530T080000Z
DTEND;VALUE=DATE:20260531T150000Z
LAST-MODIFIED:20260421T130204
SUMMARY:Modrá stuha Senca (Senec)
DESCRIPTION:107 / 2026 : Modrá stuha Senca (Senec / Sl. Senec) OPT-3; L47-3; LAR-3; LAS-3; FIN-3; 420-3; RSF-3; 
LOCATION:Senec
CATEGORIES:Preteky
END:VEVENT
END:VCALENDAR
