BEGIN:VCALENDAR
VERSION:2.0
PRODID:SAILING//SK
CALSCALE:GREGORIAN
METHOD:PUBLISH
X-WR-CALNAME:
X-ORIGINAL-URL:http://old.sailing.sk
X-WR-CALDESC:Termínový kalendár SZJ 2024
BEGIN:VEVENT
DTSTART;VALUE=DATE:20240420T080000Z
DTEND;VALUE=DATE:20240421T150000Z
LAST-MODIFIED:20260423T210540
SUMMARY:Majstrovstvá oblasti (Senec)
DESCRIPTION:107 / 2024 : Majstrovstvá oblasti (Senec / ) OPT-4; L47-4; LAR-4; LAS-4; FIN-4; 420-4; RSF-5; 
LOCATION:Senec
CATEGORIES:Preteky
END:VEVENT
END:VCALENDAR
