BEGIN:VCALENDAR
VERSION:2.0
PRODID:SAILING//SK
CALSCALE:GREGORIAN
METHOD:PUBLISH
X-WR-CALNAME:
X-ORIGINAL-URL:http://old.sailing.sk
X-WR-CALDESC:Termínový kalendár SZJ 2026
BEGIN:VEVENT
DTSTART;VALUE=DATE:20260523T080000Z
DTEND;VALUE=DATE:20260524T150000Z
LAST-MODIFIED:20260421T130047
SUMMARY:Majstrovstvá KVO (Senec)
DESCRIPTION:106 / 2026 : Majstrovstvá KVO (Senec / KVO) OPT-4; L47-4; LAR-4; LAS-4; FIN-4; 420-4; RSF-4; 
LOCATION:Senec
CATEGORIES:Preteky
END:VEVENT
END:VCALENDAR
