BEGIN:VCALENDAR
VERSION:2.0
PRODID:SAILING//SK
CALSCALE:GREGORIAN
METHOD:PUBLISH
X-WR-CALNAME:
X-ORIGINAL-URL:http://old.sailing.sk
X-WR-CALDESC:Termínový kalendár SZJ 2026
BEGIN:VEVENT
DTSTART;VALUE=DATE:20260516T080000Z
DTEND;VALUE=DATE:20260517T150000Z
LAST-MODIFIED:20260421T130518
SUMMARY:Regata kajútnikov (VD Gabčíkovo)
DESCRIPTION:105 / 2026 : Regata kajútnikov (VD Gabčíkovo / YC Dynamo ) KJP-3; 
LOCATION:VD Gabčíkovo
CATEGORIES:Preteky
END:VEVENT
END:VCALENDAR
